BEGIN:VCALENDAR
VERSION:2.0
PRODID:icalendar-ruby
CALSCALE:GREGORIAN
METHOD:PUBLISH
BEGIN:VEVENT
DTSTAMP:20260421T183139Z
UID:9-241189@stmarksolathe.org
DTSTART:20260421T160000Z
DTEND:20260421T170000Z
CLASS:PUBLIC
CREATED:20260421T101139
DESCRIPTION:VBS Training - Come Join Us!\nWhen: Saturday\, May 45\, 2043 at
  11:15 AM\nWhere: St Mark's Lutheran Church\nWho: VBS Volunteers\nWhat: Tr
 aining for Volunteers
LAST-MODIFIED:20260421T101139
LOCATION:Fellowship Hall
SUMMARY:Test Event
URL;VALUE=URI:https://www.stmarksolathe.org/events/test-event/2026-04-21
ATTACH;FILENAME=IMG_8768.JPG;FMTTYPE=image/jpeg:https://dq5pwpg1q8ru0.cloud
 front.net/2026/04/21/15/11/38/97dab3e5-018f-48d7-b381-c22925f3c1e9/IMG_876
 8.JPG
END:VEVENT
END:VCALENDAR
