BEGIN:VCALENDAR
VERSION:2.0
PRODID:icalendar-ruby
CALSCALE:GREGORIAN
METHOD:PUBLISH
BEGIN:VEVENT
DTSTAMP:20260422T073917Z
UID:8-241375@stmarksolathe.org
DTSTART:20261018T150000Z
DTEND:20261018T160000Z
CLASS:PUBLIC
CREATED:20260421T203841
DESCRIPTION:
LAST-MODIFIED:20260421T203841
LOCATION:
SUMMARY:Sunday Worship Service
URL;VALUE=URI:https://www.stmarksolathe.org/events/sunday-worship-service/2
 026-10-18
END:VEVENT
END:VCALENDAR
