BEGIN:VCALENDAR
VERSION:2.0
PRODID:icalendar-ruby
CALSCALE:GREGORIAN
METHOD:PUBLISH
BEGIN:VEVENT
DTSTAMP:20260422T060151Z
UID:8-241374@stmarksolathe.org
DTSTART:20261011T150000Z
DTEND:20261011T160000Z
CLASS:PUBLIC
CREATED:20260421T203841
DESCRIPTION:
LAST-MODIFIED:20260421T203841
LOCATION:
SUMMARY:Sunday Worship Service
URL;VALUE=URI:https://www.stmarksolathe.org/events/sunday-worship-service/2
 026-10-11
END:VEVENT
END:VCALENDAR
