BEGIN:VCALENDAR
VERSION:2.0
PRODID:icalendar-ruby
CALSCALE:GREGORIAN
METHOD:PUBLISH
BEGIN:VEVENT
DTSTAMP:20260421T231653Z
UID:8-241323@stmarksolathe.org
DTSTART:20260913T150000Z
DTEND:20260913T160000Z
CLASS:PUBLIC
CREATED:20260421T180024
DESCRIPTION:
LAST-MODIFIED:20260421T180024
LOCATION:
SUMMARY:Sunday Worship Service
URL;VALUE=URI:https://www.stmarksolathe.org/events/sunday-worship-service/2
 026-09-13
END:VEVENT
END:VCALENDAR
