BEGIN:VCALENDAR
VERSION:2.0
PRODID:icalendar-ruby
CALSCALE:GREGORIAN
METHOD:PUBLISH
BEGIN:VEVENT
DTSTAMP:20260421T214416Z
UID:8-241275@stmarksolathe.org
DTSTART:20260906T150000Z
DTEND:20260906T160000Z
CLASS:PUBLIC
CREATED:20260421T152142
DESCRIPTION:
LAST-MODIFIED:20260421T152142
LOCATION:
SUMMARY:Sunday Worship Service
URL;VALUE=URI:https://www.stmarksolathe.org/events/sunday-worship-service/2
 026-09-06
END:VEVENT
END:VCALENDAR
