BEGIN:VCALENDAR
VERSION:2.0
PRODID:icalendar-ruby
CALSCALE:GREGORIAN
METHOD:PUBLISH
BEGIN:VEVENT
DTSTAMP:20260421T201431Z
UID:8-241227@stmarksolathe.org
DTSTART:20260830T150000Z
DTEND:20260830T160000Z
CLASS:PUBLIC
CREATED:20260421T124559
DESCRIPTION:
LAST-MODIFIED:20260421T124559
LOCATION:
SUMMARY:Sunday Worship Service
URL;VALUE=URI:https://www.stmarksolathe.org/events/sunday-worship-service/2
 026-08-30
END:VEVENT
END:VCALENDAR
